BEGIN:VCALENDAR
VERSION:2.0
PRODID:-//La Gazette de Croix-Haute - ECPv6.15.20//NONSGML v1.0//EN
CALSCALE:GREGORIAN
METHOD:PUBLISH
X-ORIGINAL-URL:https://croix-haute.com
X-WR-CALDESC:Évènements pour La Gazette de Croix-Haute
REFRESH-INTERVAL;VALUE=DURATION:PT1H
X-Robots-Tag:noindex
X-PUBLISHED-TTL:PT1H
BEGIN:VTIMEZONE
TZID:Europe/Paris
BEGIN:DAYLIGHT
TZOFFSETFROM:+0100
TZOFFSETTO:+0200
TZNAME:CEST
DTSTART:20250330T010000
END:DAYLIGHT
BEGIN:STANDARD
TZOFFSETFROM:+0200
TZOFFSETTO:+0100
TZNAME:CET
DTSTART:20251026T010000
END:STANDARD
BEGIN:DAYLIGHT
TZOFFSETFROM:+0100
TZOFFSETTO:+0200
TZNAME:CEST
DTSTART:20260329T010000
END:DAYLIGHT
BEGIN:STANDARD
TZOFFSETFROM:+0200
TZOFFSETTO:+0100
TZNAME:CET
DTSTART:20261025T010000
END:STANDARD
BEGIN:DAYLIGHT
TZOFFSETFROM:+0100
TZOFFSETTO:+0200
TZNAME:CEST
DTSTART:20270328T010000
END:DAYLIGHT
BEGIN:STANDARD
TZOFFSETFROM:+0200
TZOFFSETTO:+0100
TZNAME:CET
DTSTART:20271031T010000
END:STANDARD
END:VTIMEZONE
BEGIN:VTIMEZONE
TZID:UTC
BEGIN:STANDARD
TZOFFSETFROM:+0000
TZOFFSETTO:+0000
TZNAME:UTC
DTSTART:20250101T000000
END:STANDARD
END:VTIMEZONE
BEGIN:VEVENT
DTSTART;VALUE=DATE:20260425
DTEND;VALUE=DATE:20260427
DTSTAMP:20260420T132837
CREATED:20250924T154239Z
LAST-MODIFIED:20260413T094638Z
UID:21460-1777075200-1777247999@croix-haute.com
SUMMARY:25 et 26 avril à Lasalle : Académie de Printemps Viv'Alto
DESCRIPTION:Dans le cadre de l’Académie de Printemps VIVt’ALTO : Concert « Accords de Printemps » le samedi 25 avril à 19h\, à l’église St Pierre\, Lasalle. Les musiciens : Irina MURESANU\, violon\, Pierre-Henri XUEREB\, alto\, Fabrice-Pierre\, harpe.\nRenseignement 06 76 21 32 20 – tarifs : 10€ – 5€ – gratuit moins de 15 ans\nBilletterie sur site Vivalto \n2 Classes de maitres\nviolon avec Irina Muresanu\, et\nalto avec Pierre-Henri Xuereb. \nAudition des élèves\, dimanche 26 avril\, 15h\, filature du pont de fer\, Lasalle.\nLibre participation.
URL:https://croix-haute.com/event/lasalle-a-la-filature/
LOCATION:Lasalle\, Filature du Pont de Fer\, Lasalle\, 30460
CATEGORIES:culture,Musique,vie locale
ATTACH;FMTTYPE=image/jpeg:https://croix-haute.com/wp-content/uploads/2025/09/Accords-printemps-lasalle-scaled.jpg
END:VEVENT
BEGIN:VEVENT
DTSTART;TZID=UTC:20260429T170000
DTEND;TZID=UTC:20260429T220000
DTSTAMP:20260420T132837
CREATED:20250930T105118Z
LAST-MODIFIED:20260330T150956Z
UID:21477-1777482000-1777500000@croix-haute.com
SUMMARY:Séance Cinoche le mercredi 29 avril à St-Hippolyte
DESCRIPTION:Cinéco et Le Cinoche & Cie\, deux séances cinéma par mois ! Mercredi 29 avril à la salle des Spectacles de St Hippolyte du Fort à partir de 17H. Food truck sur place. \n17 h Arco\n\n\n\n\n\n\n\n\n\n\nSortie en : 2025\nDurée : 01h25min\nGenre : Animation\nMention : Non Definit \nOrigine : France (VF)\nDe : Bienvenu Ugo\nAvec : Arco \n\n\nSynopsis : En 2075\, une petite fille de 10 ans\, Iris\, voit un mystérieux garçon vêtu d’une combinaison arc-en-ciel tomber du ciel. C’est Arco. Il vient d’un futur lointain et idyllique où voyager dans le temps est possible. Iris le recueille et va l’aider par tous les moyens à rentrer chez lui. \nCritique : Bien que les dessins laisseraient à penser à un manga\, ce film d’animation d’un jeune réalisateur français a reçu la plus prestigieuse des récompenses au dernier festival d’Annecy. Coloré et rythmé\, le film séduit également par son scénario inattendu\, ses dialogues avec parmi les voix françaises Louis Garrel\, Vincent Macaigne et William Lebghil. \n20h Les aigles de la république\n\n\n\nSortie en : 2025\nDurée : 01h56min\nGenre : Drame/ Thriller\nMention : \nOrigine : Danemark/ France/ Suède (VO)\nDe : Tarik Saleh\nAvec : Fares Fares\, Lyna Khoudri \n\n\n\nSynopsis : L’acteur le plus adulé d’Egypte\, George Fahmy\, tombe du jour au lendemain en disgrâce auprès des autorités. Sur le point de tout perdre\, George est contraint d’accepter le rôle du Président dans un biopic à sa gloire. Il se retrouve alors projeté dans le cercle le plus fermé du pouvoir et réalise vite qu’il ne risque pas seulement d’y perdre son âme\, mais qu’il s’est littéralement jeté dans une dangereuse danse macabre. \nCritique : Après Le Caire confidentiel et La Conspiration du Caire\, Tarik Saleh conclut sa « trilogie du Caire » avec un nouveau thriller implacable et audacieux. Un film politique acerbe et inventif comme on aimerait en voir plus souvent sur nos écrans\, qui déconstruit avec brio la mécanique du pouvoir dictatorial en Égypte. On en ressort écrasé et revigoré de la nécessité de résister à toutes les formes de pouvoir unique.
URL:https://croix-haute.com/event/seance-cinoche-st-hippo-2/
LOCATION:Salle des Spectacles de St Hippolyte\, Centre ville\, St-Hippolyte du Fort\, 30170\, France
CATEGORIES:cinéma,culture,vie locale
ATTACH;FMTTYPE=image/png:https://croix-haute.com/wp-content/uploads/2025/09/cinoche-29-avril.png
END:VEVENT
BEGIN:VEVENT
DTSTART;TZID=Europe/Paris:20260502T200000
DTEND;TZID=Europe/Paris:20260502T233000
DTSTAMP:20260420T132837
CREATED:20260412T145715Z
LAST-MODIFIED:20260412T145715Z
UID:23592-1777752000-1777764600@croix-haute.com
SUMMARY:Randonnée samedi 02/05 : un ruisseau sous les étoiles Ravin de Gorniès
DESCRIPTION:Le samedis 02/05 : Un ruisseau sous les étoiles Ravin de Gorniès.\nDépart au crépuscule pour une randonnée facile (6 km) ponctuée de nombreuses haltes naturalistes. Celles-ci vous permettront de découvrir certains représentants de la petite faune des mares et des ruisseaux (grenouille\, têtard\, salamandre et larves d’insecte en tout genre…). « Observation soumise au bon vouloir des espèces citées précédemment » 🙂 \n Départ du parking de la Verrerie archéologique de Couloubrines à Ferrières-les-Verreries. \nNiveau facile\, à partir de 12 ans\, 20h15 – 23h45. Accompagnée par Mattias. \n A partir de 10€ par personne. \nToutes nos sorties sont sur inscription au 06 88 25 00 48 ou contact Pierre Feuille Cigale
URL:https://croix-haute.com/event/randonnee-samedi-18-04-un-ruisseau-sous-les-etoiles-ravin-de-gornies/
CATEGORIES:randonnée,vie locale
ATTACH;FMTTYPE=image/jpeg:https://croix-haute.com/wp-content/uploads/2024/07/randonnee.jpg
ORGANIZER;CN="Pierre Feuille Cigale":MAILTO:contact@pierrefeuillecigale.com
END:VEVENT
BEGIN:VEVENT
DTSTART;VALUE=DATE:20260509
DTEND;VALUE=DATE:20260510
DTSTAMP:20260420T132838
CREATED:20260412T161710Z
LAST-MODIFIED:20260412T161710Z
UID:23595-1778284800-1778371199@croix-haute.com
SUMMARY:Samedi 09/05 : Défi Mercure\, enquête au fil de l’eau. Journée "Nature et Ruralité" à Alès
DESCRIPTION:Samedi 09/05 : Défi Mercure\, enquête au fil de l’eau. Journée « Nature et Ruralité » à Alès.\nA l’occasion de la journée « Nature et Ruralité » à Alès\, participez à un jeu de piste pour explorer et protéger nos rivières. Mettez votre esprit logique à l’épreuve. Observation\, réflexion et coopération seront vos meilleurs alliés pour relever ensemble ce défi autour de l’eau et de la nature. \nNiveau facile\, 7 ans min.\, 10h – 16h\, accompagnée par Elora \nToutes nos sorties sont sur inscription au 06 88 25 00 48 ou contact Pierre Feuille Cigale
URL:https://croix-haute.com/event/samedi-09-05-defi-mercure/
LOCATION:Alès\, 30100
CATEGORIES:randonnée,vie locale
ATTACH;FMTTYPE=image/jpeg:https://croix-haute.com/wp-content/uploads/2026/04/nature-et-ruralite-e1776010573956.jpg
ORGANIZER;CN="Pierre Feuille Cigale":MAILTO:contact@pierrefeuillecigale.com
END:VEVENT
END:VCALENDAR